BEGIN:VCALENDAR
VERSION:2.0
PRODID:-//ChamberMaster//Event Calendar 2.0//EN
METHOD:PUBLISH
X-PUBLISHED-TTL:P3D
REFRESH-INTERVAL:P3D
CALSCALE:GREGORIAN
BEGIN:VEVENT
DTSTART:20220215T133000Z
DTEND:20220215T143000Z
X-MICROSOFT-CDO-ALLDAYEVENT:FALSE
SUMMARY:Coffee Club Networking
DESCRIPTION:Coffee Club Networking with the ERC5
X-ALT-DESC;FMTTYPE=text/html:<font face="verdana">Coffee Club Networking with the ERC5</font>
LOCATION:Join us for coffee hour at Common Grounds Cafe 2341 Boston Road Wilbraham
UID:e.2525.4675
SEQUENCE:3
DTSTAMP:20260419T213519Z
URL:http://deverc5.chambermaster.com/events/details/coffee-club-networking-4675
END:VEVENT

END:VCALENDAR
