BEGIN:VCALENDAR
VERSION:2.0
PRODID:-//ChamberMaster//Event Calendar 2.0//EN
METHOD:PUBLISH
X-PUBLISHED-TTL:P3D
REFRESH-INTERVAL:P3D
CALSCALE:GREGORIAN
BEGIN:VEVENT
DTSTART:20220315T210000Z
DTEND:20220315T223000Z
X-MICROSOFT-CDO-ALLDAYEVENT:FALSE
SUMMARY:ERC5 After 5 - Vanished Valley
DESCRIPTION:Join us for a night of networking with fellow ERC5 Members and Guests while enjoying some light refreshments.
X-ALT-DESC;FMTTYPE=text/html:<font face="verdana"><span style="font-size: 16px\;">Join us for a night of networking with fellow ERC5 Members and Guests while enjoying some light refreshments.&nbsp\;</span></font>
LOCATION:Vanished Valley
UID:e.2525.4640
SEQUENCE:3
DTSTAMP:20260419T213519Z
URL:http://deverc5.chambermaster.com/events/details/erc5-after-5-vanished-valley-4640
END:VEVENT

END:VCALENDAR
