BEGIN:VCALENDAR
VERSION:2.0
PRODID:-//ChamberMaster//Event Calendar 2.0//EN
METHOD:PUBLISH
X-PUBLISHED-TTL:P3D
REFRESH-INTERVAL:P3D
CALSCALE:GREGORIAN
BEGIN:VEVENT
DTSTART;VALUE=DATE:20210531
DTEND;VALUE=DATE:20210601
TRANSP:TRANSPARENT
X-MICROSOFT-CDO-ALLDAYEVENT:TRUE
SUMMARY:ERC5 COVID Membership Assistance Program
DESCRIPTION:As a result of COVID-19\, many of our business members are facing challenges and hardships. While some members were able to pivot operations and have had success\, many businesses continue to struggle.   As an addition to our ongoing efforts to aid businesses that are suffering the adverse effects of the COVID era\, the ERC5 is seeking the support of our healthier members to help build the COVID Membership Assistance\, Program fund (C-MAP). This program is in place to ensure and enable members with financial hardships to maintain their membership and connectivity to our Chamber.\n\n\n\nA member will be eligible for assistance if the following criteria is met.    \n\n	A two-year history of membership with the ERC5\n	ERC5 member is delinquent and unable to afford dues\n	ERC5 will seek to refer member to appropriate helpful resources\n	ERC5 will ensure confidentially of ERC5 member's name\n	ERC5 member is not obligated to return payment\n\n \n\nTo participate and purchase a sponsorship\, please hit the GOLD registration button on the right or give us a call at 413.224.2444 and we will be happy to send an invoice for your generous sponsorship. \n\n*Please also be aware that any trade agreements you have with the ERC5 are excluded from this sponsorship. \n\n\n\nIf you would like more information about the program and assistance\, please reach out to Nancy at nconnor@erc5.com. All companies who receive assistance will remain confidential. \n \n\nC-MAP Sponsor Packages\n\n\n	\n		\n			 \n\n			Guardian $3\,500-$5\,000\n\n			\n				Company Logo on website for six months (300 x 300 px)\n				Two ERC5 Snacks & Facts events promoted as a featured sponsor\n				One Member Facilitated Webinar\n				One full-page ad in the 2021 Annual Meeting program \n				One Table at Talkin' Turkey networking event\n				ERC5 Member will be informed of all sponsors with the hope to pay it forward \n			\n			Steward $1\,500-$3\,000\n\n			\n				Company logo on website for three months (300 x 300 px)\n				One   page Ad in the Annual Meeting program\n				One Table at Talkin' Turkey\n				Four complimentary admissions to Snacks & Facts series\n				ERC5 Member will be informed of all sponsors with the hope to pay it forward\n			\n			Good Samaritan $750.00 - $1\,500.00\n\n			\n				Acknowledgment of your support on the ERC5 website\n				Two complimentary admissions to Snacks & Facts series\n				Sponsorship recognized in ERC5 Annual Meeting program\n				ERC5 Member will be informed of all sponsors with the hope to pay it forward
X-ALT-DESC;FMTTYPE=text/html:<br />\n<span style="font-family:verdana\,sans-serif\;"><span style="font-size:12.0pt\;">As a result of COVID-19\, many of our business members are facing challenges and hardships.&nbsp\;While some members were able to pivot operations and have had success\, many businesses continue to struggle.&nbsp\; &nbsp\;As an addition to our ongoing efforts to aid businesses that are suffering the adverse effects of the COVID era\, the ERC5 is seeking the support of our healthier members to help build the COVID Membership Assistance\, Program fund (C-MAP). This program is in place to ensure and&nbsp\;enable members with financial hardships to maintain their membership and connectivity to our Chamber.<br />\n<br />\nA member will be eligible for assistance if the following criteria is met.&nbsp\; &nbsp\;&nbsp\;</span></span>\n<ul>\n	<li><span style="font-family:verdana\,sans-serif\;"><span style="font-size:12.0pt\;">A two-year history of membership with the ERC5</span></span></li>\n	<li><span style="font-family:verdana\,sans-serif\;"><span style="font-size:12.0pt\;">ERC5 member is delinquent and unable to afford dues</span></span></li>\n	<li><span style="font-family:verdana\,sans-serif\;"><span style="font-size:12.0pt\;">ERC5 will seek to refer member to appropriate helpful resources</span></span></li>\n	<li><span style="font-family:verdana\,sans-serif\;"><span style="font-size:12.0pt\;">ERC5 will ensure confidentially of ERC5 member&#39\;s name</span></span></li>\n	<li><span style="font-family:verdana\,sans-serif\;"><span style="font-size:12.0pt\;">ERC5 member is not obligated to return payment</span></span></li>\n</ul>\n&nbsp\;\n\n<div><span style="font-family: verdana\, sans-serif\;"><span style="font-size: 12pt\;"><span font-size:="" style="font-family: sans-serif\, Arial\, Verdana\, " text-align:="" trebuchet=""><span style="font-family: verdana\, sans-serif\;"><span style="font-size: 12pt\;">To participate and purchase a sponsorship\, please hit the&nbsp\;<strong><span style="color: rgb(218\, 165\, 32)\;">GOLD</span></strong>&nbsp\;registration button on the right&nbsp\;or&nbsp\;<strong>give us a call at <a href="tel:413.224.2444">413.224.2444</a></strong>&nbsp\;and we will be happy to send an invoice for your generous sponsorship.<i>&nbsp\;</i><br />\n<em>*Please also be aware that any trade agreements you have with the ERC5 are excluded from this sponsorship.&nbsp\;</em><br />\n<br />\nIf you would like more information about the program and assistance\, please reach out to Nancy at <a href="mailto:nconnor@erc5.com">nconnor@erc5.com</a>. All companies who receive assistance&nbsp\;will remain confidential.&nbsp\;</span></span></span></span></span></div>\n&nbsp\;\n\n<div style="text-align: center\;"><strong><u><span style="font-family: verdana\, sans-serif\;"><span style="font-size: 15pt\;">C-MAP Sponsor Packages</span></span></u></strong></div>\n\n<table align="center" border="0" cellpadding="0" cellspacing="1" style="width: 1250px\;" width="1250">\n	<tbody>\n		<tr>\n			<td style="padding: 0.75pt\;"><span style="font-family: verdana\, sans-serif\;"><span style="font-size: 12pt\;">&nbsp\;<br />\n			<strong><u>Guardian $3\,500-$5\,000</u></strong></span></span>\n\n			<ul>\n				<li><span style="font-family: verdana\, sans-serif\;"><span style="font-size: 12pt\;">Company Logo on website for six months (300 x 300 px)</span></span></li>\n				<li><span style="font-family: verdana\, sans-serif\;"><span style="font-size: 12pt\;">Two ERC5 Snacks &amp\; Facts events promoted as a featured sponsor</span></span></li>\n				<li><span style="font-family: verdana\, sans-serif\;"><span style="font-size: 12pt\;">One Member Facilitated Webinar</span></span></li>\n				<li><span style="font-family: verdana\, sans-serif\;"><span style="font-size: 12pt\;">One full-page ad in the 2021 Annual Meeting program&nbsp\;</span></span></li>\n				<li><span style="font-family: verdana\, sans-serif\;"><span style="font-size: 12pt\;">One Table at Talkin&#39\;&nbsp\;Turkey networking event</span></span></li>\n				<li><span style="font-family: verdana\, sans-serif\;"><span style="font-size: 12pt\;">ERC5 Member will be informed of all sponsors with the hope to&nbsp\;<em>pay it forward&nbsp\;</em></span></span></li>\n			</ul>\n			<span style="font-family: verdana\, sans-serif\;"><span style="font-size: 12pt\;"><strong><u>Steward $1\,500-$3\,000</u></strong></span></span>\n\n			<ul>\n				<li><span style="font-family: verdana\, sans-serif\;"><span style="font-size: 12pt\;">Company logo on website for three months (300 x 300 px)</span></span></li>\n				<li><span style="font-family: verdana\, sans-serif\;"><span style="font-size: 12pt\;">One &frac12\; page Ad in the Annual Meeting program</span></span></li>\n				<li><span style="font-family: verdana\, sans-serif\;"><span style="font-size: 12pt\;">One Table at Talkin&#39\;&nbsp\;Turkey</span></span></li>\n				<li><span style="font-family: verdana\, sans-serif\;"><span style="font-size: 12pt\;">Four complimentary admissions to Snacks &amp\; Facts series</span></span></li>\n				<li><span style="font-family: verdana\, sans-serif\;"><span style="font-size: 12pt\;">ERC5 Member will be informed of all sponsors with the hope to&nbsp\;<em>pay it forward</em></span></span></li>\n			</ul>\n			<strong><u><span style="font-family: verdana\, sans-serif\;"><span style="font-size: 12pt\;">Good Samaritan $750.00 - $1\,500.00</span></span></u></strong>\n\n			<ul>\n				<li><span style="font-family: verdana\, sans-serif\;"><span style="font-size: 12pt\;">Acknowledgment of your support on the ERC5 website</span></span></li>\n				<li><span style="font-family: verdana\, sans-serif\;"><span style="font-size: 12pt\;">Two complimentary admissions to Snacks &amp\; Facts series</span></span></li>\n				<li><span style="font-family: verdana\, sans-serif\;"><span style="font-size: 12pt\;">Sponsorship recognized in ERC5 Annual Meeting program</span></span></li>\n				<li><span style="font-family: verdana\, sans-serif\;"><span style="font-size: 12pt\;">ERC5 Member will be informed of all sponsors with the hope to<em>&nbsp\;pay it forward</em></span></span></li>\n			</ul>\n			</td>\n		</tr>\n	</tbody>\n</table>\n\n<div style="clear: both\;">&nbsp\;</div>\n\n<div style="clear: both\;">&nbsp\;</div>\n
LOCATION:
UID:e.2525.4029
SEQUENCE:3
DTSTAMP:20260422T074936Z
URL:http://deverc5.chambermaster.com/events/details/erc5-covid-membership-assistance-program-4029
END:VEVENT

END:VCALENDAR
