BEGIN:VCALENDAR
VERSION:2.0
PRODID:-//ChamberMaster//Event Calendar 2.0//EN
METHOD:PUBLISH
X-PUBLISHED-TTL:P3D
REFRESH-INTERVAL:P3D
CALSCALE:GREGORIAN
BEGIN:VEVENT
DTSTART:20210407T190000Z
DTEND:20210407T200000Z
X-MICROSOFT-CDO-ALLDAYEVENT:FALSE
SUMMARY:ERC5 Legislative Roundtable
DESCRIPTION:Come and join ERC5 Board Members along with some of your State Representatives for this exclusive conclusion to our Government Roundtable Series. Attendees will learn about legislative updates that are important to Western Mass communities. Officials invited include State Senators\, State Representatives from our five-town districts\, and the Director of the Governor's Western Massachusetts Office. \n\n\n\nThis virtual meeting will conclude with a question-and-answer session. Our goal in rolling out these virtual roundtable discussions is to encourage dialogue between our Town officials and the businesses we represent by providing a platform by which they can give the business community an update on what is going on with the Towns while providing business leaders the opportunity to ask questions of the local officials in a moderated\, respectful and open productive platform.
X-ALT-DESC;FMTTYPE=text/html:<p><span style="font-size:16px\;"><span style="font-family:verdana\;">Come and join ERC5 Board Members along with some of your State Representatives for this exclusive conclusion to our Government Roundtable Series. Attendees will learn about legislative updates that are important to Western Mass communities. Officials invited include State Senators\, State Representatives from our five-town districts\, and the Director of the Governor&rsquo\;s Western Massachusetts Office.&nbsp\;</span></span><br />\n<br />\n<span style="font-size:16px\;"><span style="font-family:verdana\;">This virtual meeting will conclude with a question-and-answer session.&nbsp\;<span style="caret-color: rgb(0\, 0\, 0)\; -webkit-text-size-adjust: 100%\;">Our goal in rolling out these virtual roundtable discussions is to encourage dialogue between our Town officials and the businesses we represent by providing&nbsp\;a platform by which they can give the business community an update on what is going on with the Towns while providing business leaders the opportunity to ask questions of the local officials in a moderated\, respectful and open productive platform.&nbsp\;</span></span></span></p>\n
LOCATION:Zoom Meeting
UID:e.2525.4066
SEQUENCE:3
DTSTAMP:20260422T010123Z
URL:http://deverc5.chambermaster.com/events/details/erc5-legislative-roundtable-4066
END:VEVENT

END:VCALENDAR
