BEGIN:VCALENDAR
VERSION:2.0
PRODID:-//ChamberMaster//Event Calendar 2.0//EN
METHOD:PUBLISH
X-PUBLISHED-TTL:P3D
REFRESH-INTERVAL:P3D
CALSCALE:GREGORIAN
BEGIN:VEVENT
DTSTART:20201024T120000Z
DTEND:20201026T000000Z
X-MICROSOFT-CDO-ALLDAYEVENT:FALSE
SUMMARY:Metabolic Testing Weekend Event
DESCRIPTION:MedGem  is a simple 6-10 minute breath analysis that provides accurate and scientific measurement of the number of calories you burn each day at rest (resting metabolic rate). Understanding your unique metabolism and monitoring changes provides essential control in managing your nutritional needs\, weight\, and fitness goals. Results are available at the time of your appointment and analyzed.\n\nCheck availability: https://calendly.com/ddeslauriers_rd/metabolic-testing-event \n\n \n\n\nNOTE: Contact to inquire if your health insurance may cover testing cost.
X-ALT-DESC;FMTTYPE=text/html:<div>\n<p>MedGem&trade\; is a simple 6-10 minute breath analysis that provides accurate and scientific measurement of the number of calories you burn each day at rest (resting metabolic rate). Understanding your unique metabolism and monitoring changes provides essential control in managing your nutritional needs\, weight\, and fitness goals. Results are available at the time of your appointment and analyzed.</p>\n\n<div><strong>Check availability:&nbsp\;<a class="oajrlxb2 g5ia77u1 qu0x051f esr5mh6w e9989ue4 r7d6kgcz rq0escxv nhd2j8a9 nc684nl6 p7hjln8o kvgmc6g5 cxmmr5t8 oygrvhab hcukyx3x jb3vyjys rz4wbd8a qt6c0cv9 a8nywdso i1ao9s8h esuyzwwr f1sip0of lzcic4wl py34i1dx gpro0wi8" href="https://calendly.com/ddeslauriers_rd/metabolic-testing-event?fbclid=IwAR1nbr0RjlADQQwIb-7L5N_bX9aq-GeTQv-oBXi3vjKKQTIhOAYzZcWuo6c" rel="nofollow noopener" style="color: var(--blue-link)\; cursor: pointer\; text-decoration-line: none\; outline: none\; list-style: none\; border-width: 0px\; border-style: initial\; border-color: initial\; padding: 0px\; margin: 0px\; touch-action: manipulation\; background-color: transparent\; text-align: inherit\; display: inline\; -webkit-tap-highlight-color: transparent\; box-sizing: border-box\; font-family: inherit\;" tabindex="0" target="_blank">https://calendly.com/ddeslauriers_rd/metabolic-testing-event</a>&nbsp\;</strong></div>\n\n<p>&nbsp\;</p>\n</div>\n\n<div>NOTE: Contact to inquire if your health insurance may cover testing cost.</div>\n
LOCATION:264 North Main Street\; Suite #7 East Longmeadow MA 01028
UID:e.2525.4008
SEQUENCE:3
DTSTAMP:20260424T010719Z
URL:http://deverc5.chambermaster.com/events/details/metabolic-testing-weekend-event-4008
END:VEVENT

END:VCALENDAR
