BEGIN:VCALENDAR
VERSION:2.0
PRODID:-//ChamberMaster//Event Calendar 2.0//EN
METHOD:PUBLISH
X-PUBLISHED-TTL:P3D
REFRESH-INTERVAL:P3D
CALSCALE:GREGORIAN
BEGIN:VEVENT
DTSTART:20220428T013000Z
DTEND:20220428T023000Z
X-MICROSOFT-CDO-ALLDAYEVENT:FALSE
SUMMARY:Resources For Your Hiring & Retention Needs
DESCRIPTION:Thinking Outside the Box\, we have gathered a panel of experts to help you navigate your staffing needs.  Our team will guide you on how you can recruit from a diverse pool of candidates and make the best possible hires\, as well as provide more information on "HIRENOW"\, how can you earn $4000 per hire.
X-ALT-DESC;FMTTYPE=text/html:Thinking Outside the Box\, we have gathered a panel of experts to help you navigate your staffing needs.&nbsp\; Our team will guide you on how you can recruit from a diverse pool of candidates and make the best possible hires\, as well as provide more information on &quot\;HIRENOW&quot\;\, how can you earn $4000 per hire.
LOCATION:Virtual
UID:e.2525.4683
SEQUENCE:3
DTSTAMP:20260423T033920Z
URL:http://deverc5.chambermaster.com/events/details/resources-for-your-hiring-retention-needs-4683
END:VEVENT

END:VCALENDAR
